BEGIN:VCALENDAR
VERSION:2.0
PRODID:-//Library Market//iCal Export//EN
BEGIN:VEVENT
SUMMARY:Yoga: Para el Bienestar
UID:94275
DTSTAMP:20260424T224700Z
DTSTART:20261019T143000Z
DTEND:20261019T160000Z
LOCATION:South Branch Library, 3104 Strong Avenue, Kansas City, KS 66106, 
 United States
ROOM: Conference Room A
DESCRIPTION:Yoga para Principiantes!!! Listos para equilibrar tu estado fĂ
 ­sico ,a tu ritmo y con disciplina? entonces integrate a estas sesiones pa
 ra lograrlo.
URL:https://www.kckpl.org/event/yoga-para-el-bienestar-94275
END:VEVENT
END:VCALENDAR
