BEGIN:VCALENDAR
VERSION:2.0
PRODID:-//Library Market//iCal Export//EN
BEGIN:VEVENT
SUMMARY:Yoga: Para el Bienestar
UID:94266
DTSTAMP:20260424T230100Z
DTSTART:20260918T143000Z
DTEND:20260918T160000Z
LOCATION:South Branch Library, 3104 Strong Avenue, Kansas City, KS 66106, 
 United States
ROOM: Conference Room A
DESCRIPTION:Yoga para Principiantes!!! Listos para equilibrar tu estado fĂ
 ­sico ,a tu ritmo y con disciplina? entonces integrate a estas sesiones pa
 ra lograrlo.
URL:https://www.kckpl.org/event/yoga-para-el-bienestar-94266
END:VEVENT
END:VCALENDAR
