BEGIN:VCALENDAR
VERSION:2.0
PRODID:-//Library Market//iCal Export//EN
BEGIN:VEVENT
SUMMARY:Mini Makers Market
UID:94228
DTSTAMP:20260424T235500Z
DTSTART:20261128T200000Z
DTEND:20261128T220000Z
LOCATION:South Branch Library, 3104 Strong Avenue, Kansas City, KS 66106, 
 United States
ROOM: Conference Room A/B
DESCRIPTION:Youth, ages 6-17 will sell their own handmade items at our ma
 rket! Come out to pick up something special and support these extra small 
 entrepreneurs!Children looking to sign up for their own booth at the marke
 t can email Rachel Miller at rmiller@kckpl.org or call 913-295-8250 ext. 3
 .
URL:https://www.kckpl.org/event/mini-makers-market-94228
END:VEVENT
END:VCALENDAR
