BEGIN:VCALENDAR
VERSION:2.0
PRODID:-//Library Market//iCal Export//EN
BEGIN:VEVENT
SUMMARY:Wiggle Wednesdays - Storytime and Sensory Activities
UID:94227
DTSTAMP:20260424T203300Z
DTSTART:20261118T163000Z
DTEND:20261118T173000Z
LOCATION:South Branch Library, 3104 Strong Avenue, Kansas City, KS 66106, 
 United States
ROOM: Storytime Room
DESCRIPTION:Join us for stories, songs and playtime featuring active play 
 and sensory activities. Perfect for preschoolers, but babies and toddlers 
 are welcome, too!
URL:https://www.kckpl.org/event/wiggle-wednesdays-storytime-and-sensory-ac
 tivities-94227
END:VEVENT
END:VCALENDAR
