BEGIN:VCALENDAR
VERSION:2.0
PRODID:-//Library Market//iCal Export//EN
BEGIN:VEVENT
SUMMARY:Wiggle Wednesdays - Storytime and Sensory Activities
UID:94220
DTSTAMP:20260425T125000Z
DTSTART:20260930T153000Z
DTEND:20260930T163000Z
LOCATION:South Branch Library, 3104 Strong Avenue, Kansas City, KS 66106, 
 United States
ROOM: Storytime Room
DESCRIPTION:Join us for stories, songs and playtime featuring active play 
 and sensory activities. Perfect for preschoolers, but babies and toddlers 
 are welcome, too!
URL:https://www.kckpl.org/event/wiggle-wednesdays-storytime-and-sensory-ac
 tivities-94220
END:VEVENT
END:VCALENDAR
