BEGIN:VCALENDAR
VERSION:2.0
PRODID:-//Library Market//iCal Export//EN
BEGIN:VEVENT
SUMMARY:Spanish Bilingual Citizenship Classes / Clases de ciudadanía bili
 ngües (español)
UID:94209
DTSTAMP:20260424T220800Z
DTSTART:20260428T230000Z
DTEND:20260429T010000Z
LOCATION:West Wyandotte Library, 1737 N 82nd Street, Kansas City, KS 66112
 , United States
ROOM: Conference Room C
DESCRIPTION:Join us at the West Wyandotte Library for a Citizenship Prepar
 ation Class in English and Spanish.The classes will go over the 2008 100 C
 ivics (History and Government) Questions for the Naturalization Test and t
 he 2025 128 Civics (History and Government) Questions for the Naturalizati
 on Test in order to prepare people for Citizenship. Acompáñenos en la B
 iblioteca West Wyandotte para una clase de preparación para la ciudadaní
 a en inglés y español.Las clases repasarán las 2008 100 preguntas de ed
 ucación cívica (historia y gobierno) para el examen de naturalización y
  las 2025 128 preguntas de educación cívica (historia y gobierno) para e
 l examen de naturalización con el fin de preparar a las personas para obt
 ener la ciudadanía.
URL:https://www.kckpl.org/event/spanish-bilingual-citizenship-classes-clas
 es-de-ciudadania-bilingues-espanol-94209
END:VEVENT
END:VCALENDAR
