BEGIN:VCALENDAR
VERSION:2.0
PRODID:-//Library Market//iCal Export//EN
BEGIN:VEVENT
SUMMARY:Blockbuster Saturday: Mercy (2026)
UID:94208
DTSTAMP:20260424T230100Z
DTSTART:20260627T180000Z
DTEND:20260627T220000Z
LOCATION:Main Library, 625 Minnesota Avenue, Kansas City, KS 66101, United
  States
ROOM: 2nd Floor Auditorium
DESCRIPTION:Enjoy a Saturday matinee at the Main Library. Doors open 10 mi
 nutes before showtime. Seating is first come, first served. Snacks and bev
 erages with a lid are allowed.Mercy (2026) (PG-13) 1h. 40m. (Swank)In the 
 near future, a detective stands on trial accused of murdering his wife. He
  has 90 minutes to prove his innocence to the advanced A.I. Judge he once 
 championed, before it determines his fate.
URL:https://www.kckpl.org/event/blockbuster-saturday-mercy-2026-94208
END:VEVENT
END:VCALENDAR
