BEGIN:VCALENDAR
VERSION:2.0
PRODID:-//Library Market//iCal Export//EN
BEGIN:VEVENT
SUMMARY:Family Craft: Cupcake Decorating
UID:94026
DTSTAMP:20260420T232300Z
DTSTART:20260720T230000Z
DTEND:20260721T000000Z
LOCATION:South Branch Library, 3104 Strong Avenue, Kansas City, KS 66106, 
 United States
ROOM: Family Craft: Cupcake Decorating
DESCRIPTION:Children and their families can join us for a super sweet acti
 vity as they create amazing cupcakes! Decorate your cupcake any way you li
 ke using the provided icing, fondant and sprinkles. 
URL:https://www.kckpl.org/event/family-craft-cupcake-decorating-94026
END:VEVENT
END:VCALENDAR
