BEGIN:VCALENDAR
VERSION:2.0
PRODID:-//Library Market//iCal Export//EN
BEGIN:VEVENT
SUMMARY:Family Craft: DIY Pennants
UID:94025
DTSTAMP:20260421T062200Z
DTSTART:20260615T230000Z
DTEND:20260616T000000Z
LOCATION:South Branch Library, 3104 Strong Avenue, Kansas City, KS 66106, 
 United States
ROOM: Storytime Room
DESCRIPTION:Children and their families are invited to come create a penna
 nt! Represent your favorite sports team or whatever you please! The design
  is up to you!
URL:https://www.kckpl.org/event/family-craft-diy-pennants-94025
END:VEVENT
END:VCALENDAR
