BEGIN:VCALENDAR
VERSION:2.0
PRODID:-//Library Market//iCal Export//EN
BEGIN:VEVENT
SUMMARY:Glow Party
UID:93949
DTSTAMP:20260420T085200Z
DTSTART:20261009T000000Z
DTEND:20261009T013000Z
LOCATION:South Branch Library, 3104 Strong Avenue, Kansas City, KS 66106, 
 United States
ROOM: Conference Room A/B
DESCRIPTION:Celebrate Spooky Season with glowing fun at the South Branch L
 ibrary! We&#039;ll have glow art and games inside and glow in the dark bub
 bles outside. Kids are welcome to wear their Halloween costumes to join in
  the fun. 
URL:https://www.kckpl.org/event/glow-party-93949
END:VEVENT
END:VCALENDAR
