BEGIN:VCALENDAR
VERSION:2.0
PRODID:-//Library Market//iCal Export//EN
BEGIN:VEVENT
SUMMARY:Compartiendo Esperanza
UID:93190
DTSTAMP:20260424T230100Z
DTSTART:20260601T230000Z
DTEND:20260602T010000Z
LOCATION:The Hub Argentine, 3730 Metropolitan Ave, Kansas City, KS 66106, 
 United States
ROOM: Compartiendo Esperanza
DESCRIPTION:EVENTO MIXTO: PRESENCIAL Y VIRTUALRegistración requerida para
  asistir. Registrése aquí: https://namijc.app.neoncrm.com/nx/portal/neo
 nevents/events?path=%2Fportal%2Fevents%2F43117 Te invitamos a unirte a la
 s tres sesiones de NAMI Compartiendo Esperanza, un espacio cálido, seguro
  y lleno de cuidado para personas, familias y cuidadores de habla hispana.
  Juntos exploraremos maneras de manejar el estrés, fortalecer nuestro bie
 nestar y acompañar a nuestros seres queridos, mientras conectamos con una
  comunidad que nos comprende. Ven a compartir, a fortalecer nuestros lazos
  y a seguir sembrando esperanza y fortaleza en comunidad! Tres sesiones:1
  de Junio - 6-8pm8 de Junio - 6-8pm15 de Junio - 6-8pm 
URL:https://www.kckpl.org/event/draft-compartiendo-esperanza-93190
END:VEVENT
END:VCALENDAR
