BEGIN:VCALENDAR
VERSION:2.0
PRODID:-//Library Market//iCal Export//EN
BEGIN:VEVENT
SUMMARY:Ingles Con Sabor Latino
UID:92773
DTSTAMP:20260422T135200Z
DTSTART:20260624T230000Z
DTEND:20260625T010000Z
LOCATION:Main Library, 625 Minnesota Avenue, Kansas City, KS 66101, United
  States
ROOM: 2nd Floor Auditorium
DESCRIPTION:Acompáñenos para practicar y mejorar sus habilidades en ingl
 és con otras personas de la comunidad.Join us for an opportunity to pract
 ice and improve your English skills with others in the community
URL:https://www.kckpl.org/event/ingles-con-sabor-latino-92773
END:VEVENT
END:VCALENDAR
