BEGIN:VCALENDAR
VERSION:2.0
PRODID:-//Library Market//iCal Export//EN
BEGIN:VEVENT
SUMMARY:Ingles Con Sabor Latino
UID:92770
DTSTAMP:20260422T121400Z
DTSTART:20260603T230000Z
DTEND:20260604T010000Z
LOCATION:Main Library, 625 Minnesota Avenue, Kansas City, KS 66101, United
  States
ROOM: 2nd Floor Auditorium
DESCRIPTION:Acompáñanos a practicar y mejorar tus habilidades en inglés
  con otras personas de la comunidad.Join us for an opportunity to practice
  and improve your English skills with others in the community
URL:https://www.kckpl.org/event/ingles-con-sabor-latino-92770
END:VEVENT
END:VCALENDAR
