BEGIN:VCALENDAR
VERSION:2.0
PRODID:-//Library Market//iCal Export//EN
BEGIN:VEVENT
SUMMARY:Monday Night Movies: Let&#039;s Play Soccer!
UID:91558
DTSTAMP:20260420T085200Z
DTSTART:20260629T230000Z
DTEND:20260630T020000Z
LOCATION:Main Library, 625 Minnesota Avenue, Kansas City, KS 66101, United
  States
ROOM: 2nd Floor Auditorium
DESCRIPTION:Come and join us for a Monday night movie. Doors open 10 minut
 es before showtime. Seating is first come, first served. Snacks and bevera
 ges with a lid are allowed.Victory (PG). 1981. 117 minutes. (Swank)John Hu
 ston-coached soccer match---Allied POWs led by Michael Caine and Sylvester
  Stallone vs. Nazi commandant Max von Sydow&#039;s German squad---during W
 WII. Professional soccer greats Pele, Bobby Moore and Osvaldo Ardiles add 
 authenticity.
URL:https://www.kckpl.org/event/monday-night-movies-91558
END:VEVENT
END:VCALENDAR
