BEGIN:VCALENDAR
VERSION:2.0
PRODID:-//Library Market//iCal Export//EN
BEGIN:VEVENT
SUMMARY:Monday Night Movies: Let&#039;s Play Soccer!
UID:91557
DTSTAMP:20260420T085200Z
DTSTART:20260622T230000Z
DTEND:20260623T020000Z
LOCATION:Main Library, 625 Minnesota Avenue, Kansas City, KS 66101, United
  States
ROOM: 2nd Floor Auditorium
DESCRIPTION:Come and join us for a Monday night movie. Doors open 10 minut
 es before showtime. Seating is first come, first served. Snacks and bevera
 ges with a lid are allowed.Ladybugs (PG-13). 1992. 91 minutes. (Swank)Rodn
 ey Dangerfield as the coach of a girls soccer team who enlists the aid of 
 a male ringer.
URL:https://www.kckpl.org/event/monday-night-movies-91557
END:VEVENT
END:VCALENDAR
