BEGIN:VCALENDAR
VERSION:2.0
PRODID:-//Library Market//iCal Export//EN
BEGIN:VEVENT
SUMMARY:Monday Night Movies: Let&#039;s Play Soccer!
UID:91555
DTSTAMP:20260420T085200Z
DTSTART:20260608T230000Z
DTEND:20260609T020000Z
LOCATION:Main Library, 625 Minnesota Avenue, Kansas City, KS 66101, United
  States
ROOM: 2nd Floor Auditorium
DESCRIPTION:Come and join us for a Monday night movie. Doors open 10 minut
 es before showtime. Seating is first come, first served. Snacks and bevera
 ges with a lid are allowed.Shaolin Soccer (PG). 2001. 87 minutes. (Swank)H
 ong Kong icon Stephen Chow co-wrote, directed and stars in this outlandish
  blockbuster that pits a group of misfit, martial-artist monks against a t
 huggish team of champion soccer players.
URL:https://www.kckpl.org/event/monday-night-movies-91555
END:VEVENT
END:VCALENDAR
