BEGIN:VCALENDAR
VERSION:2.0
PRODID:-//Library Market//iCal Export//EN
BEGIN:VEVENT
SUMMARY:Community Resource Fair
UID:89285
DTSTAMP:20260421T213300Z
DTSTART:20260905T170000Z
DTEND:20260905T200000Z
LOCATION:West Wyandotte Library, 1737 N 82nd Street, Kansas City, KS 66112
 , United States
ROOM: Auditorium Plus Conference Room A/B
DESCRIPTION:Join us for a Community Resource Fair at the West Wyandotte Li
 brary. A day of fun and connection for the whole family! Bring the whole f
 amily for a fun-filled afternoon and learn about local organizations aroun
 d the metro!Organizations will be providing information on:Local affordabl
 e healthcare optionsJob readinessCommunity support programsAnd much more!F
 un yard games, free ice cream and popcorn, and a bounce house will all be 
 at the fair! We can&#039;t wait to see you there.  
URL:https://www.kckpl.org/event/communityfair
END:VEVENT
END:VCALENDAR
